BEGIN:VCALENDAR
VERSION:2.0
PRODID:-//Repaircafe VG Nieder-Olm - ECPv6.15.20//NONSGML v1.0//EN
CALSCALE:GREGORIAN
METHOD:PUBLISH
X-ORIGINAL-URL:https://repaircafe-vg-nieder-olm.de
X-WR-CALDESC:Veranstaltungen für Repaircafe VG Nieder-Olm
REFRESH-INTERVAL;VALUE=DURATION:PT1H
X-Robots-Tag:noindex
X-PUBLISHED-TTL:PT1H
BEGIN:VTIMEZONE
TZID:Europe/Berlin
BEGIN:DAYLIGHT
TZOFFSETFROM:+0100
TZOFFSETTO:+0200
TZNAME:CEST
DTSTART:20210328T010000
END:DAYLIGHT
BEGIN:STANDARD
TZOFFSETFROM:+0200
TZOFFSETTO:+0100
TZNAME:CET
DTSTART:20211031T010000
END:STANDARD
BEGIN:DAYLIGHT
TZOFFSETFROM:+0100
TZOFFSETTO:+0200
TZNAME:CEST
DTSTART:20220327T010000
END:DAYLIGHT
BEGIN:STANDARD
TZOFFSETFROM:+0200
TZOFFSETTO:+0100
TZNAME:CET
DTSTART:20221030T010000
END:STANDARD
BEGIN:DAYLIGHT
TZOFFSETFROM:+0100
TZOFFSETTO:+0200
TZNAME:CEST
DTSTART:20230326T010000
END:DAYLIGHT
BEGIN:STANDARD
TZOFFSETFROM:+0200
TZOFFSETTO:+0100
TZNAME:CET
DTSTART:20231029T010000
END:STANDARD
END:VTIMEZONE
BEGIN:VEVENT
DTSTART;TZID=Europe/Berlin:20221112T100000
DTEND;TZID=Europe/Berlin:20221112T140000
DTSTAMP:20260420T101048
CREATED:20211023T154731Z
LAST-MODIFIED:20220316T154404Z
UID:3114-1668247200-1668261600@repaircafe-vg-nieder-olm.de
SUMMARY:Repair Café in Essenheim
DESCRIPTION:Wir öffen um 10:00. Die letzten Reparaturen werden um 13:00 angenommen
URL:https://repaircafe-vg-nieder-olm.de/index.php/event/repair-cafe-in-nieder-olm-8/
LOCATION:Domherrenhalle Essenheim\, Im Klotzklauer\, Essenheim\, 55270\, Deutschland
CATEGORIES:Repair Cafe
ORGANIZER;CN="Repaircafe VG Nieder-Olm":MAILTO:juergen.klute@t-online.de
END:VEVENT
END:VCALENDAR