BEGIN:VCALENDAR
VERSION:2.0
PRODID:-//Repaircafe VG Nieder-Olm - ECPv6.15.20//NONSGML v1.0//EN
CALSCALE:GREGORIAN
METHOD:PUBLISH
X-ORIGINAL-URL:https://repaircafe-vg-nieder-olm.de
X-WR-CALDESC:Veranstaltungen für Repaircafe VG Nieder-Olm
REFRESH-INTERVAL;VALUE=DURATION:PT1H
X-Robots-Tag:noindex
X-PUBLISHED-TTL:PT1H
BEGIN:VTIMEZONE
TZID:Europe/Berlin
BEGIN:DAYLIGHT
TZOFFSETFROM:+0100
TZOFFSETTO:+0200
TZNAME:CEST
DTSTART:20190331T010000
END:DAYLIGHT
BEGIN:STANDARD
TZOFFSETFROM:+0200
TZOFFSETTO:+0100
TZNAME:CET
DTSTART:20191027T010000
END:STANDARD
BEGIN:DAYLIGHT
TZOFFSETFROM:+0100
TZOFFSETTO:+0200
TZNAME:CEST
DTSTART:20200329T010000
END:DAYLIGHT
BEGIN:STANDARD
TZOFFSETFROM:+0200
TZOFFSETTO:+0100
TZNAME:CET
DTSTART:20201025T010000
END:STANDARD
BEGIN:DAYLIGHT
TZOFFSETFROM:+0100
TZOFFSETTO:+0200
TZNAME:CEST
DTSTART:20210328T010000
END:DAYLIGHT
BEGIN:STANDARD
TZOFFSETFROM:+0200
TZOFFSETTO:+0100
TZNAME:CET
DTSTART:20211031T010000
END:STANDARD
END:VTIMEZONE
BEGIN:VEVENT
DTSTART;TZID=Europe/Berlin:20200208T100000
DTEND;TZID=Europe/Berlin:20200208T140000
DTSTAMP:20260424T065030
CREATED:20190921T215650Z
LAST-MODIFIED:20191017T173121Z
UID:1691-1581156000-1581170400@repaircafe-vg-nieder-olm.de
SUMMARY:Repair Café
DESCRIPTION:Wir öffen um 10:00. Die letzten Reparaturen werden um 13:00 angenommen
URL:https://repaircafe-vg-nieder-olm.de/index.php/event/repair-cafe-5/
LOCATION:Juhubu Haus\, Pfarrgasse 5\, Nieder-Olm\, 55268\, Deutschland
CATEGORIES:Repair Cafe
ORGANIZER;CN="Repaircafe VG Nieder-Olm":MAILTO:juergen.klute@t-online.de
END:VEVENT
END:VCALENDAR